BEGIN:VCALENDAR
VERSION:2.0
PRODID:-//Amélie Venisse - ECPv5.3.2//NONSGML v1.0//EN
CALSCALE:GREGORIAN
METHOD:PUBLISH
X-WR-CALNAME:Amélie Venisse
X-ORIGINAL-URL:https://amelievenisse.com/fr/
X-WR-CALDESC:évènements pour Amélie Venisse
BEGIN:VTIMEZONE
TZID:Europe/Paris
BEGIN:DAYLIGHT
TZOFFSETFROM:+0100
TZOFFSETTO:+0200
TZNAME:CEST
DTSTART:20240331T010000
END:DAYLIGHT
BEGIN:STANDARD
TZOFFSETFROM:+0200
TZOFFSETTO:+0100
TZNAME:CET
DTSTART:20241027T010000
END:STANDARD
END:VTIMEZONE
BEGIN:VEVENT
DTSTART;VALUE=DATE:20241201
DTEND;VALUE=DATE:20241202
DTSTAMP:20260421T101341
CREATED:20240307T161451Z
LAST-MODIFIED:20240307T161451Z
UID:1088-1733011200-1733097599@amelievenisse.com
SUMMARY:Vue\, Cie Sacékripa - Théâtre de la Ruelle
DESCRIPTION:
URL:https://amelievenisse.com/fr/event/vue-cie-sacekripa-theatre-de-la-ruelle-2/
LOCATION:La Chaux (SUISSE)
ATTACH;FMTTYPE=image/jpeg:https://amelievenisse.com/wp-content/uploads/2023/06/Photo-Vue-copie.jpg
END:VEVENT
END:VCALENDAR