BEGIN:VCALENDAR
VERSION:2.0
PRODID:-//Amélie Venisse - ECPv5.3.2//NONSGML v1.0//EN
CALSCALE:GREGORIAN
METHOD:PUBLISH
X-WR-CALNAME:Amélie Venisse
X-ORIGINAL-URL:https://amelievenisse.com/fr/
X-WR-CALDESC:évènements pour Amélie Venisse
BEGIN:VTIMEZONE
TZID:Europe/Paris
BEGIN:DAYLIGHT
TZOFFSETFROM:+0100
TZOFFSETTO:+0200
TZNAME:CEST
DTSTART:20240331T010000
END:DAYLIGHT
BEGIN:STANDARD
TZOFFSETFROM:+0200
TZOFFSETTO:+0100
TZNAME:CET
DTSTART:20241027T010000
END:STANDARD
END:VTIMEZONE
BEGIN:VEVENT
DTSTART;VALUE=DATE:20241206
DTEND;VALUE=DATE:20241207
DTSTAMP:20260421T131140
CREATED:20240711T170239Z
LAST-MODIFIED:20240711T170239Z
UID:1125-1733443200-1733529599@amelievenisse.com
SUMMARY:Vu.Vue\, Cie Sacékripa - Espace Jargot
DESCRIPTION:
URL:https://amelievenisse.com/fr/event/vu-vue-cie-sacekripa-espace-jargot/
LOCATION:Crolles (38)
ATTACH;FMTTYPE=image/jpeg:https://amelievenisse.com/wp-content/uploads/2023/06/Photo-Vue-copie.jpg
END:VEVENT
END:VCALENDAR